BEGIN:VCALENDAR
VERSION:2.0
PRODID:-//Contratero//ES
CALSCALE:GREGORIAN
METHOD:PUBLISH
BEGIN:VEVENT
UID:PA 374/2017@contratero.es
DTSTAMP:20260425T190902Z
DTSTART:20170918T235959
DTEND:20170919T005959
SUMMARY:Cierre: Servicio de Digitalización de Historias Clínicas d
DESCRIPTION:Servicio de Digitalización de Historias Clínicas del Hospital Vega Baja de Orihuela y su posterior destrucción legal\\n\\nOrganismo: Departamento de Salud de Orihuela. Dirección Económica-Gerencia\\n\\nVer en Contratero: https://contratero.es/contracts/PA 374/2017
URL:https://contratero.es/contracts/PA 374/2017
STATUS:CONFIRMED
BEGIN:VALARM
TRIGGER:-P1D
ACTION:DISPLAY
DESCRIPTION:Recordatorio: Servicio de Digitalización de 
END:VALARM
END:VEVENT
END:VCALENDAR